BEGIN:VCALENDAR
VERSION:2.0
CALSCALE:GREGORIAN
METHOD:PUBLISH
PRODID://EDAC//491378
BEGIN:VEVENT
DTSTAMP:20260419T160345
VTIMEZONE:America/Denver
DTSTART:20260320T150000Z
DTEND:20260320T210000Z
UID:491378
SUMMARY:Business Investment & Attraction (BIA)In-person Closed Event
LOCATION:Reynolds Museum, 6426 - 40th Avenue, Wetaskiwin, AB
DESCRIPTION:Business Investment & Attraction (BIA)In-person Closed Event\n\n03/20/26 09:00 AM MST\n - 03/20/26 03:00 PM MST\Description:\nBusiness Investment & Attraction (BIA) ls a Core Course with the EDA Institute\n\nDuring this in-person session you will;\n\n	Understand the role of economic development and the importance of implementing a BI&A strategy.\n	Assess community investment readiness, leverage competitive advantages, and build capacity.\n	Develop a comprehensive BI&A strategy, conduct market research, and select appropriate marketing tools.\n	Cultivate relationships with investors and entrepreneurs, identify investment projects, and establish protocols.\n\nHosted by: Jennifer Hartigh, Jobs, Economy, Trade and Immigration\nTrainer: Trevor Lewington\nTea, Coffee and Lunch will be served\nLocation: Reynolds Museum 6426-40th Ave., Wetaskiwin\Location:\nReynolds Museum\n6426 - 40th Avenue\nWetaskiwin, AB
X-ALT-DESC;FMTTYPE=text/html:Business Investment & Attraction (BIA)In-person Closed Event<br /><br />03/20/26 09:00 AM MST - 03/20/26 03:00 PM MST<br />Description:<br />Business Investment &amp; Attraction (BIA) ls a Core Course with the EDA Institute<br />
<br />
During this in-person session you will;
<ul>
	<li>Understand the role of economic development and the importance of implementing a BI&amp;A strategy.</li>
	<li>Assess community investment readiness, leverage competitive advantages, and build capacity.</li>
	<li>Develop a comprehensive BI&amp;A strategy, conduct market research, and select appropriate marketing tools.</li>
	<li>Cultivate relationships with investors and entrepreneurs, identify investment projects, and establish protocols.</li>
</ul>
Hosted by: Jennifer Hartigh, Jobs, Economy, Trade and Immigration<br />
Trainer: Trevor Lewington<br />
Tea, Coffee and Lunch will be served<br />
Location:<strong> </strong><em>Reynolds Museum&nbsp;6426-40th Ave., Wetaskiwin</em><br />Location:<br />Reynolds Museum<br />6426 - 40th Avenue<br />Wetaskiwin, AB 
PRIORITY:3
TRANSP:TRANSPARENT
BEGIN:VALARM
TRIGGER:-PT5M
ACTION:DISPLAY
DESCRIPTION:Reminder
END:VALARM
END:VEVENT
END:VCALENDAR
