BEGIN:VCALENDAR
VERSION:2.0
CALSCALE:GREGORIAN
METHOD:PUBLISH
PRODID://EDAC//490626
BEGIN:VEVENT
DTSTAMP:20260419T192726
VTIMEZONE:America/Denver
DTSTART:20260415T180000Z
DTEND:20260417T180000Z
UID:490626
SUMMARY:EDA Xperience 2026 Conference
LOCATION:Pomeroy Mountain Lodge, 1 Centennial Drive, Kananaskis, AB
DESCRIPTION:EDA Xperience 2026 Conference\n\n04/15/26 12:00 PM MST\n - 04/17/26 12:00 PM MST\Description:\nEDA Xperience 2026 Conference attracts more than 400 economic development experts and elected officials from across Alberta, Canada and around the world.\n\nCancellation policy: Refunds will be issued less $50 cancel fee prior to April 3. No refunds after that.\n\n \Location:\nPomeroy Mountain Lodge\n1 Centennial Drive\nKananaskis, AB
X-ALT-DESC;FMTTYPE=text/html:EDA Xperience 2026 Conference<br /><br />04/15/26 12:00 PM MST - 04/17/26 12:00 PM MST<br />Description:<br />EDA Xperience 2026 Conference attracts more than 400 economic development experts and elected officials from across Alberta, Canada and around the world.<br />
<br />
Cancellation policy: Refunds will be issued less $50 cancel fee prior to April 3. No refunds after that.<br />
<br />
&nbsp;<br />Location:<br />Pomeroy Mountain Lodge<br />1 Centennial Drive<br />Kananaskis, AB 
PRIORITY:3
TRANSP:TRANSPARENT
BEGIN:VALARM
TRIGGER:-PT5M
ACTION:DISPLAY
DESCRIPTION:Reminder
END:VALARM
END:VEVENT
END:VCALENDAR
