BEGIN:VCALENDAR
VERSION:2.0
CALSCALE:GREGORIAN
METHOD:PUBLISH
PRODID://EDAC//488015
BEGIN:VEVENT
DTSTAMP:20260420T025344
VTIMEZONE:America/Denver
DTSTART:20260924T200000Z
DTEND:20260925T010000Z
UID:488015
SUMMARY:EDA Invitational Golf Tournament
LOCATION:Broadmoor Golf Course, 2100 Oak Street, Sherwood Park, AB
DESCRIPTION:EDA Invitational Golf Tournament\n\n09/24/26 02:00 PM MST\n - 09/24/26 07:00 PM MST\Description:\nKeeping busy professionals in mind, EDA has re-imagined the format of the EDA Invitational Golf Tournament.\nThis year’s event features a streamlined 9-hole Texas Scramble experience. \n\nJoin us on September 24 at the Broadmoor Golf Course in Sherwood Park, AB.\nNo golf experience is required!  Dinner is included with your registration. \n\nWe are pleased to welcome Invest Alberta as our Title Sponsor.\nTheir business development team will be on hand to network with tournament participants. \n\nThe EDA Invitational also offers an excellent opportunity to showcase your organization with sponsorship opportunities. \Location:\nBroadmoor Golf Course\n2100 Oak Street\nSherwood Park, AB
X-ALT-DESC;FMTTYPE=text/html:EDA Invitational Golf Tournament<br /><br />09/24/26 02:00 PM MST - 09/24/26 07:00 PM MST<br />Description:<br />Keeping busy professionals in mind, EDA has re-imagined the format of the EDA Invitational Golf Tournament.<br />
This year&rsquo;s event features a streamlined 9-hole Texas Scramble experience.&nbsp;<br />
<br />
Join us on September 24 at the Broadmoor Golf Course in Sherwood Park, AB.<br />
No golf experience is required!&nbsp; Dinner is included with your registration.&nbsp;<br />
<br />
We are pleased to welcome Invest Alberta as our Title Sponsor.<br />
Their business development team will be on hand to network with tournament participants.&nbsp;<br />
<br />
The EDA Invitational also offers an excellent opportunity to showcase your organization with sponsorship opportunities.&nbsp;<br />Location:<br />Broadmoor Golf Course<br />2100 Oak Street<br />Sherwood Park, AB 
PRIORITY:3
TRANSP:TRANSPARENT
BEGIN:VALARM
TRIGGER:-PT5M
ACTION:DISPLAY
DESCRIPTION:Reminder
END:VALARM
END:VEVENT
END:VCALENDAR
