BEGIN:VCALENDAR
VERSION:2.0
CALSCALE:GREGORIAN
METHOD:PUBLISH
PRODID://EDAC//484304
BEGIN:VEVENT
DTSTAMP:20260419T204649
VTIMEZONE:America/Denver
DTSTART:20260719T150000Z
DTEND:20260723T223000Z
UID:484304
SUMMARY:2026 PNWER Annual Summit
LOCATION:JW Marriott Hotel, Edmonton, AB
DESCRIPTION:2026 PNWER Annual Summit\n\n07/19/26 09:00 AM MST\n - 07/23/26 04:30 PM MST\Description:\nNWER's 2026 Annual Summit will be held July 19 - 23, 2026 in Edmonton, Alberta at the JW Marriott Edmonton Ice District\n\nLegislators, business leaders, academics, and policymakers from the U.S. and Canada will gather in Edmonton, Alberta for PNWER's 35th Annual Summit from July 19 - 23 to discuss regional economic best practices and trade concerns.  It will be an opportunity to engage with our region's key decision makers on both sides of the border. â€‹\nPNWER is recognized as the model for regional and bi-national cooperation, providing a platform for collaboration among public, private, academic, and non-profit stakeholders to work together as a region in pursuit of common goals. â€‹ \n\nThe PNWER Annual Summit is the leading forum where people in the policy world and the business world come together to figure out solutions to regional challenges.\n\Location:\nJW Marriott Hotel\n\nEdmonton, AB
X-ALT-DESC;FMTTYPE=text/html:2026 PNWER Annual Summit<br /><br />07/19/26 09:00 AM MST - 07/23/26 04:30 PM MST<br />Description:<br /><p><span style="font-family:arial,helvetica,sans-serif"><strong>NWER's 2026 Annual Summit will be held July 19 - 23, 2026 in Edmonton, Alberta&nbsp;</strong><strong>at the JW Marriott Edmonton Ice District</strong></span></p>

<p><span style="font-family:arial,helvetica,sans-serif">Legislators, business leaders, academics, and policymakers from the U.S. and Canada will gather in Edmonton, Alberta for PNWER's 35th Annual Summit from July 19 - 23 to discuss regional economic best practices and trade concerns.&nbsp; It will be an opportunity to engage with our region's key decision makers on both sides of the border.&nbsp;â€‹<br />
PNWER is recognized as the model for regional and bi-national cooperation, providing a platform for collaboration among public, private, academic, and non-profit stakeholders to work together as a region in pursuit of common goals.&nbsp;â€‹&nbsp;<br />
<br />
<strong>The PNWER Annual Summit is the leading forum where people in the policy world and the business world come together to figure out solutions to regional challenges.</strong></span></p>
<br />Location:<br />JW Marriott Hotel<br /><br />Edmonton, AB 
PRIORITY:3
TRANSP:TRANSPARENT
BEGIN:VALARM
TRIGGER:-PT5M
ACTION:DISPLAY
DESCRIPTION:Reminder
END:VALARM
END:VEVENT
END:VCALENDAR
