BEGIN:VCALENDAR
VERSION:2.0
CALSCALE:GREGORIAN
METHOD:PUBLISH
PRODID://EDAC//483522
BEGIN:VEVENT
DTSTAMP:20260419T075508
VTIMEZONE:America/Denver
DTSTART:20260114T160000Z
DTEND:20260114T220000Z
UID:483522
SUMMARY:Economic Development for Elected Officials - Closed Event
LOCATION:, AB
DESCRIPTION:Economic Development for Elected Officials - Closed Event\n\n01/14/26 09:00 AM MST\n - 01/14/26 03:00 PM MST\Description:\nHosted by Amy Oshanyk and trained by Mark Morrissey.
X-ALT-DESC;FMTTYPE=text/html:Economic Development for Elected Officials - Closed Event<br /><br />01/14/26 09:00 AM MST - 01/14/26 03:00 PM MST<br />Description:<br />Hosted by Amy Oshanyk and trained by Mark Morrissey.
PRIORITY:3
TRANSP:TRANSPARENT
BEGIN:VALARM
TRIGGER:-PT5M
ACTION:DISPLAY
DESCRIPTION:Reminder
END:VALARM
END:VEVENT
END:VCALENDAR
