BEGIN:VCALENDAR
VERSION:2.0
CALSCALE:GREGORIAN
METHOD:PUBLISH
PRODID://EDAC//468268
BEGIN:VEVENT
DTSTAMP:20260419T105543
VTIMEZONE:America/Denver
DTSTART:20251209T160000Z
DTEND:20251209T200000Z
UID:468268
SUMMARY:Community Capacity Building Workshop
LOCATION:, Strathmore, AB
DESCRIPTION:Community Capacity Building Workshop\n\n12/09/25 09:00 AM MST\n - 12/09/25 01:00 PM MST\Description:\nThe Town of Strathmore is hosting a Community Capacity Building Workshop in collaboration with Economic Developers Alberta and Invest Alberta. \nEconomic development is a team effort. Knowing the game plan, having the right players, and working together are essential, especially in rural and remote regions where resources are limited.\n\nThis interactive session is focused on strengthening grassroots economic development and community capacity. it is designed for rural practitioners, economic development committees, and elected officials interested in business and investment attraction.\n\nA key component of the workshop is Strategic Doing, a practical framework that helps communities move quickly and collaboratively from ideas to action.\n\nThe prerequisite is EDA's Business Investment & Attraction Course on November 27.\n\nTo access the event registration code contact Angela Groeneveld angela.groeneveld@strathmore.ca.\n\Location:\n\n\nStrathmore, AB
X-ALT-DESC;FMTTYPE=text/html:Community Capacity Building Workshop<br /><br />12/09/25 09:00 AM MST - 12/09/25 01:00 PM MST<br />Description:<br />The Town of Strathmore is hosting a Community Capacity Building Workshop in collaboration with Economic Developers Alberta and Invest Alberta.&nbsp;
<p>Economic development is a team effort. Knowing the game plan, having the right players, and working together are essential, especially in rural and remote regions where resources are limited.</p>

<p>This&nbsp;interactive session is focused on strengthening grassroots economic development and community capacity. it is designed for rural practitioners, economic development committees, and elected officials interested in business and investment attraction.</p>

<p>A key component of the workshop is Strategic Doing, a practical framework that helps communities move quickly and collaboratively from ideas to action.<br />
<br />
The prerequisite is EDA's Business Investment &amp; Attraction Course on November 27.<br />
<br />
To access the event registration code contact Angela Groeneveld&nbsp;<a href="mailto:angela.groeneveld@strathmore.ca">angela.groeneveld@strathmore.ca</a>.</p>
<br />Location:<br /><br /><br />Strathmore, AB 
PRIORITY:3
TRANSP:TRANSPARENT
BEGIN:VALARM
TRIGGER:-PT5M
ACTION:DISPLAY
DESCRIPTION:Reminder
END:VALARM
END:VEVENT
END:VCALENDAR
