BEGIN:VCALENDAR
VERSION:2.0
CALSCALE:GREGORIAN
METHOD:PUBLISH
PRODID://EDAC//468267
BEGIN:VEVENT
DTSTAMP:20260419T093520
VTIMEZONE:America/Denver
DTSTART:20251210T190000Z
DTEND:20251210T200000Z
UID:468267
SUMMARY:Wednesday Webinar: 2025 Federal Budget Highlights- An Overview by PrairiesCan
LOCATION:, AB
DESCRIPTION:Wednesday Webinar: 2025 Federal Budget Highlights- An Overview by PrairiesCan\n\n12/10/25 12:00 PM MST\n - 12/10/25 01:00 PM MST\Description:\nEconomic Developers Alberta (EDA) invites you to a timely webinar featuring Michele Evans, Assistant Deputy Minister, Alberta Region, Prairies Economic Development Canada.\n\nADM Evans will be speaking about  how the Canada Strong Budget 2025 will be influencing business growth, competitiveness, and infrastructure in Alberta.\n\nStay informed. Stay ahead.\n
X-ALT-DESC;FMTTYPE=text/html:Wednesday Webinar: 2025 Federal Budget Highlights- An Overview by PrairiesCan<br /><br />12/10/25 12:00 PM MST - 12/10/25 01:00 PM MST<br />Description:<br /><p data-end="1240" data-start="1065">Economic Developers Alberta (EDA) invites you to a timely webinar featuring <strong data-end="1239" data-start="1141">Michele Evans, Assistant Deputy Minister, Alberta Region, Prairies Economic Development Canada</strong>.</p>

<p data-end="1613" data-start="1242">ADM Evans will be speaking about&nbsp; how the <strong data-end="1303" data-start="1274">Canada Strong Budget 2025&nbsp;</strong>will be influencing&nbsp;<strong data-end="1468" data-start="1396">business growth, competitiveness, and infrastructure&nbsp;</strong>in Alberta.<br data-end="1483" data-start="1480" />
<br />
<strong data-end="1645" data-start="1615">Stay informed. Stay ahead.</strong></p>

PRIORITY:3
TRANSP:TRANSPARENT
BEGIN:VALARM
TRIGGER:-PT5M
ACTION:DISPLAY
DESCRIPTION:Reminder
END:VALARM
END:VEVENT
END:VCALENDAR
