BEGIN:VCALENDAR
VERSION:2.0
CALSCALE:GREGORIAN
METHOD:PUBLISH
PRODID://EDAC//468196
BEGIN:VEVENT
DTSTAMP:20260419T191629
VTIMEZONE:America/Denver
DTSTART:20260128T190000Z
DTEND:20260128T200000Z
UID:468196
SUMMARY:Wednesday Webinar- Unpacking EDA's Community Investment Readiness Tool 
LOCATION:, AB
DESCRIPTION:Wednesday Webinar- Unpacking EDA's Community Investment Readiness Tool \n\n01/28/26 12:00 PM MST\n - 01/28/26 01:00 PM MST\Description:\nGet the inside track on EDA's Community Investment Readiness Tool! \n\nJoin EDA and special guest Guillermo Mazier, SVP of Global Business at FT Locations, for a FREE webinar that dives deep into the groundbreaking CIR Tool helping Alberta communities boost their investment readiness.\n\nOur CIR Tool is a first-of-its-kind self-assessment designed to help communities evaluate where they stand — and make more strategic decisions about attracting and sustaining investment.\n\nDeveloped in collaboration with FT Locations, the CIR tool is available through EDA’s Community Investment Readiness Course through the EDA Institute. (Completion of EDA’s Business and Investment Attraction (BIA) course is a required prerequisite for accessing the full course and tool.)\n\n\n 
X-ALT-DESC;FMTTYPE=text/html:Wednesday Webinar- Unpacking EDA's Community Investment Readiness Tool <br /><br />01/28/26 12:00 PM MST - 01/28/26 01:00 PM MST<br />Description:<br />Get the inside track on EDA's Community Investment Readiness Tool!&nbsp;<br />
<br />
Join EDA and special guest Guillermo Mazier, SVP of Global Business at FT Locations, for a FREE webinar that dives deep into the groundbreaking&nbsp;CIR Tool helping Alberta communities boost their investment readiness.<br />
<br />
Our CIR Tool&nbsp;is a first-of-its-kind self-assessment designed to help communities evaluate where they stand &mdash; and make more strategic decisions about attracting and sustaining investment.<br />
<br />
Developed in collaboration with FT Locations,&nbsp;the CIR tool is available through EDA&rsquo;s&nbsp;Community Investment Readiness Course through the EDA Institute. (Completion of EDA&rsquo;s&nbsp;<em data-end="1253" data-start="1211">Business and Investment Attraction (BIA)</em>&nbsp;course is a required prerequisite for accessing the full course and tool.)<br />
<br />
<br />
&nbsp;
PRIORITY:3
TRANSP:TRANSPARENT
BEGIN:VALARM
TRIGGER:-PT5M
ACTION:DISPLAY
DESCRIPTION:Reminder
END:VALARM
END:VEVENT
END:VCALENDAR
