BEGIN:VCALENDAR
VERSION:2.0
CALSCALE:GREGORIAN
METHOD:PUBLISH
PRODID://EDAC//467094
BEGIN:VEVENT
DTSTAMP:20260419T105722
VTIMEZONE:America/Denver
DTSTART:20251203T190000Z
DTEND:20251203T200000Z
UID:467094
SUMMARY:Wednesday Webinar: Any Way You Want It: How Rural and Urban Communities Shape Their Own Data Story
LOCATION:, AB
DESCRIPTION:Wednesday Webinar: Any Way You Want It: How Rural and Urban Communities Shape Their Own Data Story\n\n12/03/25 12:00 PM MST\n - 12/03/25 01:00 PM MST\Description:\nJoin EDA and our partner CityViz to discover how communities across Canada are using data to find flexible, creative ways to drive economic impact, and show the value of their communities in powerful new ways.\n\nThis webinar shares real-world examples that demonstrate how flexible tools can reflect the unique strengths, priorities, and personality of every community. \n\nIn this session, discover how communities are using data to:\n\n• Improve transparency\n• Showcase construction and infrastructure investment\n• Highlight cultural and socio-economic identity\n• Support workforce attraction and local business growth\n• Understand and respond to tourism activity in real time\n• Create dynamic stories with custom mapping solutions\n\nSpecial guest: Sasha Bogdanovic, Chief Executive Officer, CityViz\n 
X-ALT-DESC;FMTTYPE=text/html:Wednesday Webinar: Any Way You Want It: How Rural and Urban Communities Shape Their Own Data Story<br /><br />12/03/25 12:00 PM MST - 12/03/25 01:00 PM MST<br />Description:<br />Join EDA and our partner CityViz to discover&nbsp;how communities across Canada are using data to find flexible, creative ways to drive economic impact, and show the value of their communities in powerful new ways.<br />
<br />
This webinar shares real-world examples that demonstrate how flexible tools can reflect the unique strengths, priorities, and personality of every community.&nbsp;<br />
<br />
In this session, discover how communities are using data to:<br />
<br />
&bull; Improve transparency<br />
&bull; Showcase construction and infrastructure investment<br />
&bull; Highlight cultural and socio-economic identity<br />
&bull; Support workforce attraction and local business growth<br />
&bull; Understand and respond to tourism activity in real time<br />
&bull; Create dynamic stories with custom mapping solutions<br />
<br />
Special guest:&nbsp;Sasha Bogdanovic, Chief Executive Officer, CityViz<br />
&nbsp;
PRIORITY:3
TRANSP:TRANSPARENT
BEGIN:VALARM
TRIGGER:-PT5M
ACTION:DISPLAY
DESCRIPTION:Reminder
END:VALARM
END:VEVENT
END:VCALENDAR
