BEGIN:VCALENDAR
VERSION:2.0
CALSCALE:GREGORIAN
METHOD:PUBLISH
PRODID://EDAC//465886
BEGIN:VEVENT
DTSTAMP:20260419T144341
VTIMEZONE:America/Denver
DTSTART:20251127T160000Z
DTEND:20251127T210000Z
UID:465886
SUMMARY:Performance Measurement (PM)- Virtual Course (Closed Event)
LOCATION:
DESCRIPTION:Performance Measurement (PM)- Virtual Course (Closed Event)\n\n11/27/25 09:00 AM MST\n - 11/27/25 02:00 PM MST\Description:\nPerformance measurement is crucial for economic development as it provides a systematic way to assess, manage, and improve the efficiency and effectiveness of economic policies and initiatives. Quantifying progress and outcomes helps economic developers ensure that their strategies are on track and delivering the intended benefits to communities, businesses, and stakeholders.\n\nThis course aims to provide participants with a robust understanding of performance measurement in the context of economic development, preparing them to effectively evaluate and enhance the impact of economic development initiatives.\n\nThis is an optional Community Economic Development Training Program (CEDTP) course.  \n \nHosted by PrairiesCan.
X-ALT-DESC;FMTTYPE=text/html:Performance Measurement (PM)- Virtual Course (Closed Event)<br /><br />11/27/25 09:00 AM MST - 11/27/25 02:00 PM MST<br />Description:<br /><p>Performance measurement is crucial for economic development as it provides a systematic way to assess, manage, and improve the efficiency and effectiveness of economic policies and initiatives. Quantifying progress and outcomes helps economic developers ensure that their strategies are on track and delivering the intended benefits to communities, businesses, and stakeholders.</p>

<p>This course aims to provide participants with a robust understanding of performance measurement in the context of economic development, preparing them to effectively evaluate and enhance the impact of economic development initiatives.</p>

<p>This is an optional Community Economic Development Training Program (CEDTP) course. &nbsp;<br />
&nbsp;</p>
<em>Hosted by PrairiesCan.</em>
PRIORITY:3
TRANSP:TRANSPARENT
BEGIN:VALARM
TRIGGER:-PT5M
ACTION:DISPLAY
DESCRIPTION:Reminder
END:VALARM
END:VEVENT
END:VCALENDAR
