BEGIN:VCALENDAR
VERSION:2.0
CALSCALE:GREGORIAN
METHOD:PUBLISH
PRODID://EDAC//465884
BEGIN:VEVENT
DTSTAMP:20260419T125434
VTIMEZONE:America/Denver
DTSTART:20251120T163000Z
DTEND:20251120T223000Z
UID:465884
SUMMARY:Rural Economic Development (RED) - In-Person Course (Closed Event)
LOCATION:G.R. Davis Administrative Building (Fort Macleod Town Office), 410 20th Street, Fort Macleod, AB, T0L 0Z0
DESCRIPTION:Rural Economic Development (RED) - In-Person Course (Closed Event)\n\n11/20/25 09:30 AM MST\n - 11/20/25 03:30 PM MST\Description:\nThis Event is invite-only.\Location:\nG.R. Davis Administrative Building (Fort Macleod Town Office)\n410 20th Street\nFort Macleod, AB T0L 0Z0
X-ALT-DESC;FMTTYPE=text/html:Rural Economic Development (RED) - In-Person Course (Closed Event)<br /><br />11/20/25 09:30 AM MST - 11/20/25 03:30 PM MST<br />Description:<br />This Event is invite-only.<br />Location:<br />G.R. Davis Administrative Building (Fort Macleod Town Office)<br />410 20th Street<br />Fort Macleod, AB T0L 0Z0
PRIORITY:3
TRANSP:TRANSPARENT
BEGIN:VALARM
TRIGGER:-PT5M
ACTION:DISPLAY
DESCRIPTION:Reminder
END:VALARM
END:VEVENT
END:VCALENDAR
