BEGIN:VCALENDAR
VERSION:2.0
CALSCALE:GREGORIAN
METHOD:PUBLISH
PRODID://EDAC//464015
BEGIN:VEVENT
DTSTAMP:20260419T161129
VTIMEZONE:America/Denver
DTSTART:20251112T220000Z
DTEND:20251114T230000Z
UID:464015
SUMMARY:Alberta Municipalities 2025 Convention & Trade Show 
LOCATION:Calgary TELUS Convention Centre, 120-9 Avenue, Calgary, AB, T2G 0P3
DESCRIPTION:Alberta Municipalities 2025 Convention & Trade Show \n\n11/12/25 03:00 PM MST\n - 11/14/25 04:00 PM MST\Description:\nEDA will be present at the 2025 Alberta Municipalities Convention and Trade Show.\n\nWe look forward to seeing you at our booth #68. We will also be presenting a session on Community Investment Readiness, with Invest Alberta and the Town of Strathmore.\n\nFor more information and to register go to www.abmunis.ca.\n\Location:\nCalgary TELUS Convention Centre\n120-9 Avenue\nCalgary, AB T2G 0P3
X-ALT-DESC;FMTTYPE=text/html:Alberta Municipalities 2025 Convention & Trade Show <br /><br />11/12/25 03:00 PM MST - 11/14/25 04:00 PM MST<br />Description:<br /><p>EDA will be present at the 2025 Alberta Municipalities Convention and Trade Show.</p>

<p>We look forward to seeing you at our booth #68. We will also be presenting a session on Community Investment Readiness, with Invest Alberta and the Town of Strathmore.</p>

<p>For more information and to register go to&nbsp;<a href="http://www.abmunis.ca/" target="_blank">www.abmunis.ca</a>.</p>
<br />Location:<br />Calgary TELUS Convention Centre<br />120-9 Avenue<br />Calgary, AB T2G 0P3
PRIORITY:3
TRANSP:TRANSPARENT
BEGIN:VALARM
TRIGGER:-PT5M
ACTION:DISPLAY
DESCRIPTION:Reminder
END:VALARM
END:VEVENT
END:VCALENDAR
