BEGIN:VCALENDAR
VERSION:2.0
CALSCALE:GREGORIAN
METHOD:PUBLISH
PRODID://EDAC//460614
BEGIN:VEVENT
DTSTAMP:20260419T162239
VTIMEZONE:America/Denver
DTSTART:20251114T160000Z
DTEND:20251114T210000Z
UID:460614
SUMMARY:Community Economic Resilience (CER) In-Person Course
LOCATION:Room 212 Elevation Place, Canmore, AB
DESCRIPTION:Community Economic Resilience (CER) In-Person Course\n\n11/14/25 09:00 AM MST\n - 11/14/25 02:00 PM MST\Description:\nExplore the ongoing process of resilience and how communities can "bounce back better" from crises. \n\nElevate your leadership in post-disaster recovery with strategic insights and essential skills.\n\nDiscover effective rebuilding strategies for long-term community vitality and growth.\n\nBuild a resilient future!\n\nThis is a core course in our Community Economic Development Training Program (CEDTP).\n\nHosted by Canmore Economic Development\n\Location:\nRoom 212 Elevation Place\n\nCanmore, AB
X-ALT-DESC;FMTTYPE=text/html:Community Economic Resilience (CER) In-Person Course<br /><br />11/14/25 09:00 AM MST - 11/14/25 02:00 PM MST<br />Description:<br /><p>Explore the ongoing process of resilience and how communities can &quot;bounce back better&quot; from crises.&nbsp;</p>

<p>Elevate your leadership in post-disaster recovery with strategic insights and essential skills.</p>

<p>Discover effective rebuilding strategies for long-term community vitality and growth.</p>

<p>Build a resilient future!</p>

<p>This is a core course in our Community Economic Development Training Program (CEDTP).<br />
<br />
<em>Hosted by Canmore Economic Development</em></p>
<br />Location:<br />Room 212 Elevation Place<br /><br />Canmore, AB 
PRIORITY:3
TRANSP:TRANSPARENT
BEGIN:VALARM
TRIGGER:-PT5M
ACTION:DISPLAY
DESCRIPTION:Reminder
END:VALARM
END:VEVENT
END:VCALENDAR
