BEGIN:VCALENDAR
VERSION:2.0
CALSCALE:GREGORIAN
METHOD:PUBLISH
PRODID://EDAC//457754
BEGIN:VEVENT
DTSTAMP:20260419T192703
VTIMEZONE:America/Denver
DTSTART:20251030T230000Z
DTEND:20251031T030000Z
UID:457754
SUMMARY:2025 EDA Ministry Dinner
LOCATION:Matrix Hotel, 10640 100 Avenue NW, Edmonton , AB
DESCRIPTION:2025 EDA Ministry Dinner\n\n10/30/25 05:00 PM MST\n - 10/30/25 09:00 PM MST\Description:\nThe purpose of the Annual EDA Ministry Dinner is to bring together EDA members and stakeholders with specific Ministers and senior staff from the Government of Canada and the Government of Alberta, to network, share information about programs and explore potential partnerships. \n\nThe dynamic format of the dinner involves rotating table visitations to maximize networking during the meal.\Location:\nMatrix Hotel\n10640 100 Avenue NW\nEdmonton , AB
X-ALT-DESC;FMTTYPE=text/html:2025 EDA Ministry Dinner<br /><br />10/30/25 05:00 PM MST - 10/30/25 09:00 PM MST<br />Description:<br />The purpose of the Annual EDA Ministry Dinner is to bring together EDA members and stakeholders with specific Ministers and senior staff from the Government of Canada and the Government of Alberta, to network, share information about programs and explore potential partnerships.&nbsp;<br />
<br />
The dynamic format of the dinner involves rotating table visitations to maximize networking during the meal.<br />Location:<br />Matrix Hotel<br />10640 100 Avenue NW<br />Edmonton , AB 
PRIORITY:3
TRANSP:TRANSPARENT
BEGIN:VALARM
TRIGGER:-PT5M
ACTION:DISPLAY
DESCRIPTION:Reminder
END:VALARM
END:VEVENT
END:VCALENDAR
