BEGIN:VCALENDAR
VERSION:2.0
CALSCALE:GREGORIAN
METHOD:PUBLISH
PRODID://EDAC//447598
BEGIN:VEVENT
DTSTAMP:20260419T191539
VTIMEZONE:America/Denver
DTSTART:20251117T190000Z
DTEND:20251120T233000Z
UID:447598
SUMMARY:Rural Municipalities Alberta (RMA) 2025 Fall Convention
LOCATION:Edmonton Convention Centre, 9797 Jasper Avenue, Edmonton, AB, T5J 1N9
DESCRIPTION:Rural Municipalities Alberta (RMA) 2025 Fall Convention\n\n11/17/25 12:00 PM MST\n - 11/20/25 04:30 PM MST\Description:\nThe RMA hosts two conventions per year, one in spring and one in fall, at the Edmonton Convention Centre in Edmonton, Alberta. Each convention sees a variety of plenary addresses and workshops, as well as the ministerial forum and resolutions session. In addition to these events, the fall convention hosts the opposition party leader panel, as well as our RMA Board elections and partners program. The RMA and Canoe Tradeshow is held during the fall convention to better serve our members as they go through the budget process within their municipalities.\n\nThe RMA 2025 Fall Convention and Tradeshow is scheduled to take place November 17-20, at the Edmonton Convention Centre. \n\Location:\nEdmonton Convention Centre\n9797 Jasper Avenue\nEdmonton, AB T5J 1N9
X-ALT-DESC;FMTTYPE=text/html:Rural Municipalities Alberta (RMA) 2025 Fall Convention<br /><br />11/17/25 12:00 PM MST - 11/20/25 04:30 PM MST<br />Description:<br /><p>The RMA hosts two conventions per year, one in spring and one in fall, at the Edmonton Convention Centre in Edmonton, Alberta. Each convention sees a variety of plenary addresses and workshops, as well as the ministerial forum and resolutions session. In addition to these events, the fall convention hosts the opposition party leader panel, as well as our RMA Board elections and partners program. The RMA and Canoe Tradeshow is held during the fall convention to better serve our members as they go through the budget process within their municipalities.</p>

<p>The RMA 2025 Fall Convention and Tradeshow is scheduled to take place November 17-20, at the Edmonton Convention Centre.&nbsp;</p>
<br />Location:<br />Edmonton Convention Centre<br />9797 Jasper Avenue<br />Edmonton, AB T5J 1N9
PRIORITY:3
TRANSP:TRANSPARENT
BEGIN:VALARM
TRIGGER:-PT5M
ACTION:DISPLAY
DESCRIPTION:Reminder
END:VALARM
END:VEVENT
END:VCALENDAR
