BEGIN:VCALENDAR
VERSION:2.0
CALSCALE:GREGORIAN
METHOD:PUBLISH
PRODID://EDAC//447586
BEGIN:VEVENT
DTSTAMP:20260419T164315
VTIMEZONE:America/Denver
DTSTART:20251029T150000Z
DTEND:20251029T200000Z
UID:447586
SUMMARY:Community Economic Resilience (CER) In-Person Course
LOCATION:Best Western High Road Inn, 300 52 St., Edson, AB, T7E 1V8
DESCRIPTION:Community Economic Resilience (CER) In-Person Course\n\n10/29/25 09:00 AM MST\n - 10/29/25 02:00 PM MST\Description:\nExplore the ongoing process of resilience and how communities can "bounce back better" from crises. \n\nElevate your leadership in post-disaster recovery with strategic insights and essential skills.\n\nDiscover effective rebuilding strategies for long-term community vitality and growth.\n\nBuild a resilient future!\n\nThis is a core course in our Community Economic Development Training Program (CEDTP). \n\nHosted by Community Futures West Yellowhead.\n\Location:\nBest Western High Road Inn\n300 52 St.\nEdson, AB T7E 1V8
X-ALT-DESC;FMTTYPE=text/html:Community Economic Resilience (CER) In-Person Course<br /><br />10/29/25 09:00 AM MST - 10/29/25 02:00 PM MST<br />Description:<br /><p>Explore the ongoing process of resilience and how communities can &quot;bounce back better&quot; from crises.&nbsp;</p>

<p>Elevate your leadership in post-disaster recovery with strategic insights and essential skills.</p>

<p>Discover effective rebuilding strategies for long-term community vitality and growth.</p>

<p>Build a resilient future!</p>

<p>This is a core course in our Community Economic Development Training Program (CEDTP).&nbsp;<br />
<br />
<em>Hosted by Community Futures West Yellowhead.</em></p>
<br />Location:<br />Best Western High Road Inn<br />300 52 St.<br />Edson, AB T7E 1V8
PRIORITY:3
TRANSP:TRANSPARENT
BEGIN:VALARM
TRIGGER:-PT5M
ACTION:DISPLAY
DESCRIPTION:Reminder
END:VALARM
END:VEVENT
END:VCALENDAR
