BEGIN:VCALENDAR
VERSION:2.0
CALSCALE:GREGORIAN
METHOD:PUBLISH
PRODID://EDAC//447582
BEGIN:VEVENT
DTSTAMP:20260419T164245
VTIMEZONE:America/Denver
DTSTART:20251028T150000Z
DTEND:20251028T210000Z
UID:447582
SUMMARY:Economic Development for Elected Officials (EO) In-Person Course
LOCATION:816-2 Ave , Dunmore, AB, T1B 0K3
DESCRIPTION:Economic Development for Elected Officials (EO) In-Person Course\n\n10/28/25 09:00 AM MST\n - 10/28/25 03:00 PM MST\Description:\nSpecifically designed for elected officials and local leadership.\n\nProvides theory, fundamental economic development applications, and examples of best practices.\n\nThis "30,000-foot view of economic development helps you align your mandate and projects with the current economic development situation. \n\nThis is a core course in our Community Economic Development Training Program (CEDTP).  \nHosted by Cypress County\Location:\n816-2 Ave \n\nDunmore, AB T1B 0K3
X-ALT-DESC;FMTTYPE=text/html:Economic Development for Elected Officials (EO) In-Person Course<br /><br />10/28/25 09:00 AM MST - 10/28/25 03:00 PM MST<br />Description:<br /><p>Specifically designed for elected officials and local leadership.</p>

<p>Provides theory, fundamental economic development applications, and examples of best practices.</p>

<p>This &quot;30,000-foot view of economic development helps you align your mandate and projects with the current economic development situation.&nbsp;</p>

<p>This is a core course in our Community Economic Development Training Program (CEDTP). &nbsp;</p>
<em>Hosted by Cypress County</em><br />Location:<br />816-2 Ave <br /><br />Dunmore, AB T1B 0K3
PRIORITY:3
TRANSP:TRANSPARENT
BEGIN:VALARM
TRIGGER:-PT5M
ACTION:DISPLAY
DESCRIPTION:Reminder
END:VALARM
END:VEVENT
END:VCALENDAR
